BEGIN:VCALENDAR
VERSION:2.0
PRODID:-//Partners for Progress SWPA - ECPv6.15.20//NONSGML v1.0//EN
CALSCALE:GREGORIAN
METHOD:PUBLISH
X-ORIGINAL-URL:https://partnersforprogressswpa.org
X-WR-CALDESC:Events for Partners for Progress SWPA
REFRESH-INTERVAL;VALUE=DURATION:PT1H
X-Robots-Tag:noindex
X-PUBLISHED-TTL:PT1H
BEGIN:VTIMEZONE
TZID:America/New_York
BEGIN:DAYLIGHT
TZOFFSETFROM:-0500
TZOFFSETTO:-0400
TZNAME:EDT
DTSTART:20250309T070000
END:DAYLIGHT
BEGIN:STANDARD
TZOFFSETFROM:-0400
TZOFFSETTO:-0500
TZNAME:EST
DTSTART:20251102T060000
END:STANDARD
BEGIN:DAYLIGHT
TZOFFSETFROM:-0500
TZOFFSETTO:-0400
TZNAME:EDT
DTSTART:20260308T070000
END:DAYLIGHT
BEGIN:STANDARD
TZOFFSETFROM:-0400
TZOFFSETTO:-0500
TZNAME:EST
DTSTART:20261101T060000
END:STANDARD
BEGIN:DAYLIGHT
TZOFFSETFROM:-0500
TZOFFSETTO:-0400
TZNAME:EDT
DTSTART:20270314T070000
END:DAYLIGHT
BEGIN:STANDARD
TZOFFSETFROM:-0400
TZOFFSETTO:-0500
TZNAME:EST
DTSTART:20271107T060000
END:STANDARD
END:VTIMEZONE
BEGIN:VEVENT
DTSTART;TZID=America/New_York:20260403T110000
DTEND;TZID=America/New_York:20260403T120000
DTSTAMP:20260423T125745
CREATED:20260326T165042Z
LAST-MODIFIED:20260326T165046Z
UID:1116-1775214000-1775217600@partnersforprogressswpa.org
SUMMARY:Fridays With(out) Fetterman
DESCRIPTION:Fridays Without Fetterman\, every Friday\, noon to 1 pm at 1000 Liberty Avenue\, Pittsburgh\, 15222. It hardly needs to be said how disappointing John Fetterman has been as our senator. It is crucial that we continue to remind him that we sent him to Washington to stand up for our values\, protect our civil and first amendment rights\, and be a bulwark against the tyrannical policies of the Trump regime. Bring a sign and a friend. https://www.mobilize.us/mobilize/event/899611/ \n\n\n\n\n\n\n\n \nShare this:\n				Share on Bluesky (Opens in new window)\n				Bluesky
URL:https://partnersforprogressswpa.org/event/fridays-without-fetterman/
END:VEVENT
END:VCALENDAR