BEGIN:VCALENDAR
VERSION:2.0
PRODID:-//Partners for Progress SWPA - ECPv6.15.20//NONSGML v1.0//EN
CALSCALE:GREGORIAN
METHOD:PUBLISH
X-WR-CALNAME:Partners for Progress SWPA
X-ORIGINAL-URL:https://partnersforprogressswpa.org
X-WR-CALDESC:Events for Partners for Progress SWPA
REFRESH-INTERVAL;VALUE=DURATION:PT1H
X-Robots-Tag:noindex
X-PUBLISHED-TTL:PT1H
BEGIN:VTIMEZONE
TZID:America/New_York
BEGIN:DAYLIGHT
TZOFFSETFROM:-0500
TZOFFSETTO:-0400
TZNAME:EDT
DTSTART:20250309T070000
END:DAYLIGHT
BEGIN:STANDARD
TZOFFSETFROM:-0400
TZOFFSETTO:-0500
TZNAME:EST
DTSTART:20251102T060000
END:STANDARD
BEGIN:DAYLIGHT
TZOFFSETFROM:-0500
TZOFFSETTO:-0400
TZNAME:EDT
DTSTART:20260308T070000
END:DAYLIGHT
BEGIN:STANDARD
TZOFFSETFROM:-0400
TZOFFSETTO:-0500
TZNAME:EST
DTSTART:20261101T060000
END:STANDARD
BEGIN:DAYLIGHT
TZOFFSETFROM:-0500
TZOFFSETTO:-0400
TZNAME:EDT
DTSTART:20270314T070000
END:DAYLIGHT
BEGIN:STANDARD
TZOFFSETFROM:-0400
TZOFFSETTO:-0500
TZNAME:EST
DTSTART:20271107T060000
END:STANDARD
END:VTIMEZONE
BEGIN:VEVENT
DTSTART;TZID=America/New_York:20260412T150000
DTEND;TZID=America/New_York:20260412T170000
DTSTAMP:20260423T183835
CREATED:20260326T163044Z
LAST-MODIFIED:20260409T185207Z
UID:1110-1776006000-1776013200@partnersforprogressswpa.org
SUMMARY:Partners For Progress SWPA Membership Meeting
DESCRIPTION:Come meet your fellow South Hills (and adjacent communities) activists\, plan future actions and activities\, and participate in a training session\, presented by filmmaker and community organizer Annabel Park\, on how to organize locally so you and your neighbors are prepared to act when a crisis arises. This is the type of organizing that enabled the people of Minneapolis to stand and protect each other while under siege and empowered the people of South Korea to resist a military takeover of their government. Location (in Mt. Lebanon) will be provided when you RSVP. https://actionnetwork.org/forms/partners-for-progress-swpa-meeting-and-neighborhood-organizing-training \n\n\n\n\nShare this:\n				Share on Bluesky (Opens in new window)\n				Bluesky
URL:https://partnersforprogressswpa.org/event/partners-for-progress-swpa-membership-meeting/
ORGANIZER;CN="Partners for Progress SWPA":MAILTO:info@partnersforprogressswpa.org
END:VEVENT
BEGIN:VEVENT
DTSTART;TZID=America/New_York:20260403T110000
DTEND;TZID=America/New_York:20260403T120000
DTSTAMP:20260423T183835
CREATED:20260326T165042Z
LAST-MODIFIED:20260326T165046Z
UID:1116-1775214000-1775217600@partnersforprogressswpa.org
SUMMARY:Fridays With(out) Fetterman
DESCRIPTION:Fridays Without Fetterman\, every Friday\, noon to 1 pm at 1000 Liberty Avenue\, Pittsburgh\, 15222. It hardly needs to be said how disappointing John Fetterman has been as our senator. It is crucial that we continue to remind him that we sent him to Washington to stand up for our values\, protect our civil and first amendment rights\, and be a bulwark against the tyrannical policies of the Trump regime. Bring a sign and a friend. https://www.mobilize.us/mobilize/event/899611/ \n\n\n\n\n\n\n\n \nShare this:\n				Share on Bluesky (Opens in new window)\n				Bluesky
URL:https://partnersforprogressswpa.org/event/fridays-without-fetterman/
END:VEVENT
BEGIN:VEVENT
DTSTART;TZID=America/New_York:20260328T160000
DTEND;TZID=America/New_York:20260328T173000
DTSTAMP:20260423T183835
CREATED:20260311T235330Z
LAST-MODIFIED:20260326T162203Z
UID:1014-1774713600-1774719000@partnersforprogressswpa.org
SUMMARY:No Kings Rally - Pittsburgh South Hills
DESCRIPTION:Sign up at https://www.mobilize.us/nokings/event/909512/ \n\n\n\nOn March 28th\, rise up\, take to the streets\, and say it loud: no thrones\, no crowns\, no kings. We’re not watching history happen—we’re making it. Join us. \n\n\n\nPartners for Progress SWPA is hosting another No Kings rally in Pittsburgh’s South Hills on Saturday\, March 28 from 4-5:30 pm. \n\n\n\nFeatured speakers are former Congressman Conor Lamb\, state Rep. Jen Mazzocco\, Allegheny County Councilor Dan Grzybek\, Carnegie Mayor Sam Bigham\, and activist 1Hood Power MAN-E. \n\n\n\nPlease sign up here:  \n\n\n\nhttps://www.mobilize.us/nokings/event/909512 \n\n\n\nSigning up helps us plan and allows us to contact you about any changes. \n\n\n\nThe event is rain or shine (barring any dangerous conditions) so dress for the weather. \n\n\n\nA core principle behind all No Kings events is a commitment to nonviolent action. We expect all participants to seek to de-escalate any potential confrontation with those who disagree with our values and to act lawfully at these events. Weapons of any kind\, including those legally permitted\, should not be brought to events. \n\n\n\nExact location will be provided upon registration. Additional details to follow about the event as the date nears so stay tuned! \n\n\n\n\n\n\n\n \nShare this:\n				Share on Bluesky (Opens in new window)\n				Bluesky
URL:https://partnersforprogressswpa.org/event/no-kings-rally/
END:VEVENT
END:VCALENDAR